BEGIN:VCALENDAR
VERSION:2.0
PRODID:-//Turismo Ciudad Parque - ECPv6.4.0.1//NONSGML v1.0//EN
CALSCALE:GREGORIAN
METHOD:PUBLISH
X-ORIGINAL-URL:https://turismociudadparque.ar
X-WR-CALDESC:Eventos para Turismo Ciudad Parque
REFRESH-INTERVAL;VALUE=DURATION:PT1H
X-Robots-Tag:noindex
X-PUBLISHED-TTL:PT1H
BEGIN:VTIMEZONE
TZID:America/Argentina/Buenos_Aires
BEGIN:STANDARD
TZOFFSETFROM:-0300
TZOFFSETTO:-0300
TZNAME:-03
DTSTART:20240101T000000
END:STANDARD
END:VTIMEZONE
BEGIN:VEVENT
DTSTART;TZID=America/Argentina/Buenos_Aires:20240512T080000
DTEND;TZID=America/Argentina/Buenos_Aires:20240512T170000
DTSTAMP:20260425T152654
CREATED:20240508T013545Z
LAST-MODIFIED:20240508T142520Z
UID:20299-1715500800-1715533200@turismociudadparque.ar
SUMMARY:Fiestas Patronales Villa Ciudad Parque
DESCRIPTION:El domingo 12 de mayo\, La Virgen de Fátima\, patrona de Villa Ciudad Parque\, vuelve a convocar a toda la comunidad regional para celebrar sus fiestas patronales. Este año\, además de la variada propuesta de artistas locales\, el escenario contará con la presencia de Paquito Ocaño. \nCronograma Oficial del evento \n• 9:00 HS: Concentración de fieles y agrupaciones gauchas en la Capilla Nuestra Sra. De Fátima\, Villa Ciudad Parque.\n• 10:00 hs: Santa misa en Capilla Nuestra Sra. De Fátima.\n• 11:00 hs: Desfile de instituciones\, Escuelas\, Policía\, Bomberos Voluntarios\, y Agrupaciones Gauchas (frente a la Comuna de Villa Ciudad Parque).\n• 12:30 hs: Acto en Predio Comunal\, izamiento de Pabellón Nacional\, Himno nacional argentino y entrega de participación de agrupaciones gauchas\, orquesta con himno.\n• 13:00 hs: Almuerzo criollo con espectáculos:\n* Cielito de Mil Estrellas (himno a Villa Ciudad Parque)\n• 15:00 hs: Apertura de Campo\n* Destrezas Gauchas.\n* Jineteada con las tropillas:\n*La misteriosa de Cornejo de Tanti.\n*La corralera de Riboira de las perdices.\n*Animan: Atilio Gonzalez y Payador Pichon Paredes.\n*Apadrinan: Jorge Olariaga\, Lucas Bustos y Enrique Arguello.\n*Capataz de Campo: Beto Olariaga\n• 19:00 hs: Apertura de escenario con Fogón Gaucho\n*Los Periconeros de Calamuchita.\n* Academia Raíces Serranas.\n* Academia Pari Aike.\n* Escuela de Danza Tierra Adentro\n* Paquito Ocaño\n* Voz femenina Marina Cornejo\n* Emiliano Zervini\n• Locución: Mariza Baez
URL:https://turismociudadparque.ar/evento/mes-del-astroturismo-en-villa-ciudad-parque/
ATTACH;FMTTYPE=image/jpeg:https://turismociudadparque.ar/wp-content/uploads/2024/05/patronales2024.jpg
END:VEVENT
END:VCALENDAR