BEGIN:VCALENDAR
VERSION:2.0
PRODID:-//Turismo Ciudad Parque - ECPv6.4.0.1//NONSGML v1.0//EN
CALSCALE:GREGORIAN
METHOD:PUBLISH
X-ORIGINAL-URL:https://turismociudadparque.ar
X-WR-CALDESC:Eventos para Turismo Ciudad Parque
REFRESH-INTERVAL;VALUE=DURATION:PT1H
X-Robots-Tag:noindex
X-PUBLISHED-TTL:PT1H
BEGIN:VTIMEZONE
TZID:America/Argentina/Buenos_Aires
BEGIN:STANDARD
TZOFFSETFROM:-0300
TZOFFSETTO:-0300
TZNAME:-03
DTSTART:20240101T000000
END:STANDARD
END:VTIMEZONE
BEGIN:VEVENT
DTSTART;TZID=America/Argentina/Buenos_Aires:20240616T150000
DTEND;TZID=America/Argentina/Buenos_Aires:20240616T160000
DTSTAMP:20260425T184800
CREATED:20240613T121518Z
LAST-MODIFIED:20240613T122050Z
UID:20346-1718550000-1718553600@turismociudadparque.ar
SUMMARY:Safari fotográfico: Avistaje de aves y reconocimiento de flora nativa
DESCRIPTION:Caminatas con guía especializado para el avistaje de aves y reconocimiento de flora nativa. \nLa actividad está a cargo de Galileo Geeraert y requiere inscripción previa\, posible hasta el día de la salida\, en la Oficina de Turismo (Av. Fátima a metros del Arco) o al Whatsapp (3546) 45 61 70. \nLas caminatas comienzan a las 15hs. Y el punto de encuentro es el balneario junto al puente de Villa Ciudad Parque; desde allí inicia el recorrido por la reserva hídrica durante una hora y media. \nSe puede llevar cámara propia\, calzado cómodo\, abrigo y mate. \nCosto: $1000 por persona (gratis hasta 14 años). \nResidentes de Villa Ciudad Parque: sin costo presentando DNI y con previa inscripción.
URL:https://turismociudadparque.ar/evento/safari-fotografico-avistaje-de-aves-y-reconocimiento-de-flora-nativa/
ATTACH;FMTTYPE=image/jpeg:https://turismociudadparque.ar/wp-content/uploads/2024/06/436259776_122180840336027975_6793066265847492594_n.jpg
END:VEVENT
BEGIN:VEVENT
DTSTART;TZID=America/Argentina/Buenos_Aires:20240622T150000
DTEND;TZID=America/Argentina/Buenos_Aires:20240622T160000
DTSTAMP:20260425T184800
CREATED:20240613T122811Z
LAST-MODIFIED:20240613T122811Z
UID:20351-1719068400-1719072000@turismociudadparque.ar
SUMMARY:Safari fotográfico: Avistaje de aves y reconocimiento de flora nativa
DESCRIPTION:Caminatas con guía especializado para el avistaje de aves y reconocimiento de flora nativa. \nLa actividad está a cargo de Galileo Geeraert y requiere inscripción previa\, posible hasta el día de la salida\, en la Oficina de Turismo (Av. Fátima a metros del Arco) o al Whatsapp (3546) 45 61 70. \nLas caminatas comienzan a las 15hs. Y el punto de encuentro es el balneario junto al puente de Villa Ciudad Parque; desde allí inicia el recorrido por la reserva hídrica durante una hora y media. \nSe puede llevar cámara propia\, calzado cómodo\, abrigo y mate. \nCosto: $1000 por persona (gratis hasta 14 años). \nResidentes de Villa Ciudad Parque: sin costo presentando DNI y con previa inscripción.
URL:https://turismociudadparque.ar/evento/safari-fotografico-avistaje-de-aves-y-reconocimiento-de-flora-nativa-3/
ATTACH;FMTTYPE=image/jpeg:https://turismociudadparque.ar/wp-content/uploads/2024/06/436259776_122180840336027975_6793066265847492594_n.jpg
END:VEVENT
BEGIN:VEVENT
DTSTART;TZID=America/Argentina/Buenos_Aires:20240623T150000
DTEND;TZID=America/Argentina/Buenos_Aires:20240623T160000
DTSTAMP:20260425T184800
CREATED:20240613T123131Z
LAST-MODIFIED:20240613T123131Z
UID:20353-1719154800-1719158400@turismociudadparque.ar
SUMMARY:Safari fotográfico: Avistaje de aves y reconocimiento de flora nativa
DESCRIPTION:Caminatas con guía especializado para el avistaje de aves y reconocimiento de flora nativa. \nLa actividad está a cargo de Galileo Geeraert y requiere inscripción previa\, posible hasta el día de la salida\, en la Oficina de Turismo (Av. Fátima a metros del Arco) o al Whatsapp (3546) 45 61 70. \nLas caminatas comienzan a las 15hs. Y el punto de encuentro es el balneario junto al puente de Villa Ciudad Parque; desde allí inicia el recorrido por la reserva hídrica durante una hora y media. \nSe puede llevar cámara propia\, calzado cómodo\, abrigo y mate. \nCosto: $1000 por persona (gratis hasta 14 años). \nResidentes de Villa Ciudad Parque: sin costo presentando DNI y con previa inscripción.
URL:https://turismociudadparque.ar/evento/safari-fotografico-avistaje-de-aves-y-reconocimiento-de-flora-nativa-4/
ATTACH;FMTTYPE=image/jpeg:https://turismociudadparque.ar/wp-content/uploads/2024/06/436259776_122180840336027975_6793066265847492594_n.jpg
END:VEVENT
BEGIN:VEVENT
DTSTART;TZID=America/Argentina/Buenos_Aires:20240719T180000
DTEND;TZID=America/Argentina/Buenos_Aires:20240719T210000
DTSTAMP:20260425T184800
CREATED:20240717T163504Z
LAST-MODIFIED:20240717T163504Z
UID:20391-1721412000-1721422800@turismociudadparque.ar
SUMMARY:Tango Viajero\, una propuesta diferente.
DESCRIPTION:Hermosa experiencia en Villa Ciudad Parque ! Te invitamos a conocer nuestra riqueza cultural de la mano del Profe Nacho 🪗 éste viernes 19 de Julio 🗓
URL:https://turismociudadparque.ar/evento/tango-viajero-una-propuesta-diferente/
ATTACH;FMTTYPE=image/jpeg:https://turismociudadparque.ar/wp-content/uploads/2024/07/WhatsApp-Image-2024-07-17-at-12.44.21-PM.jpeg
END:VEVENT
BEGIN:VEVENT
DTSTART;TZID=America/Argentina/Buenos_Aires:20240720T210000
DTEND;TZID=America/Argentina/Buenos_Aires:20240720T233000
DTSTAMP:20260425T184800
CREATED:20240717T152720Z
LAST-MODIFIED:20240717T152720Z
UID:20388-1721509200-1721518200@turismociudadparque.ar
SUMMARY:Noche de Jazz en Villa Ciudad Parque
DESCRIPTION:Se viene la tercera edición de las Noches de Jazz en el SUM comunal: el sábado 20 de julio a las 21hs. se presentan Luis Robinson\, Emanuel Brusa y su trio\, que conforma junto a Martín Pantuso y Hernán Gnesutta; cerrando la velada los hermanos Graham\, Yañez y Saldaña.\n\n\nLas entradas tienen un valor de $2.000 (en puerta).\n\n\nSUM comunal\nSábado 20 de julio\n21 hs\n\n\nHabrá buffet\n\n\nNo te pierdas una noche con los clásicos del jazz y también con composiciones propias de los artistas que se presentan. Un concierto dirigido a los aficionados del jazz y al público en general. ¡Vení a disfrutarlo!
URL:https://turismociudadparque.ar/evento/noche-de-jazz-en-villa-ciudad-parque/
ATTACH;FMTTYPE=image/jpeg:https://turismociudadparque.ar/wp-content/uploads/2024/07/451317476_122189524238027975_2986009696925318895_n.jpg
END:VEVENT
BEGIN:VEVENT
DTSTART;TZID=America/Argentina/Buenos_Aires:20241019T210000
DTEND;TZID=America/Argentina/Buenos_Aires:20241019T233000
DTSTAMP:20260425T184800
CREATED:20241016T122420Z
LAST-MODIFIED:20241016T122420Z
UID:20400-1729371600-1729380600@turismociudadparque.ar
SUMMARY:3er Encuentro de Cantautores de Villa Ciudad Parque
DESCRIPTION:Se viene el 3er Encuentro de Cantautores de Villa Ciudad Parque que tendrá lugar el próximo 19 de octubre en el SUM comunal\, a las 21 hs.\n\n\nEn esta nueva edición se presentará el músico cordobés Rodrigo Carazo\, acompañado por artistas locales que completarán la propuesta de una velada para escuchar y disfrutar de la canción de autor.\n\n\nAdemás de cantautor\, Carazo es investigador\, docente y productor musical y traerá a Villa Ciudad Parque sus más diversas curiosidades musicales y poéticas.\n\n\nEn esta ocasión\, estarán presentes los músicos locales Diego Bario\, Lua King y Pol Olaciregui\, quienes ofrecerán parte de su repertorio de canciones propias\, en una noche imperdible.\n\n\nLa entrada tiene un valor de $3.000. ¡Los esperamos!
URL:https://turismociudadparque.ar/evento/3er-encuentro-de-cantautores-de-villa-ciudad-parque/
ATTACH;FMTTYPE=image/jpeg:https://turismociudadparque.ar/wp-content/uploads/2024/10/461944150_858409866465737_8044622646070294912_n.jpg
END:VEVENT
BEGIN:VEVENT
DTSTART;TZID=America/Argentina/Buenos_Aires:20241116T180000
DTEND;TZID=America/Argentina/Buenos_Aires:20241116T233000
DTSTAMP:20260425T184800
CREATED:20241015T153404Z
LAST-MODIFIED:20241016T121921Z
UID:20396-1731780000-1731799800@turismociudadparque.ar
SUMMARY:4° Fiesta de la Diversidad Cultural
DESCRIPTION:Se viene este evento que ya es un clásico de Villa Ciudad Parque.  Donde la diversidad de culturas de nuestro pueblo se expresa mediante espectáculos en vivo\, gastronomía y artesanias.
URL:https://turismociudadparque.ar/evento/4-fiesta-de-la-diversidad-cultural/
ATTACH;FMTTYPE=image/png:https://turismociudadparque.ar/wp-content/uploads/2024/10/16.11.24-18hs-plaza-del-bosque.png
END:VEVENT
END:VCALENDAR